BEGIN:VCALENDAR
VERSION:2.0
PRODID:-//Saws and Slaws - ECPv6.15.20//NONSGML v1.0//EN
CALSCALE:GREGORIAN
METHOD:PUBLISH
X-WR-CALNAME:Saws and Slaws
X-ORIGINAL-URL:https://sawsandslaws.org
X-WR-CALDESC:Events for Saws and Slaws
REFRESH-INTERVAL;VALUE=DURATION:PT1H
X-Robots-Tag:noindex
X-PUBLISHED-TTL:PT1H
BEGIN:VTIMEZONE
TZID:UTC
BEGIN:STANDARD
TZOFFSETFROM:+0000
TZOFFSETTO:+0000
TZNAME:UTC
DTSTART:20150101T000000
END:STANDARD
END:VTIMEZONE
BEGIN:VEVENT
DTSTART;VALUE=DATE:20160504
DTEND;VALUE=DATE:20160505
DTSTAMP:20260419T150655
CREATED:20160403T020304Z
LAST-MODIFIED:20160403T020342Z
UID:1440-1462320000-1462406399@sawsandslaws.org
SUMMARY:Nederland Area Sort Yard Opens for 2016
DESCRIPTION:For more information: Ned Sort Yard Opens
URL:https://sawsandslaws.org/event/nederland-area-sort-yard-opens-for-2016/
END:VEVENT
BEGIN:VEVENT
DTSTART;VALUE=DATE:20160427
DTEND;VALUE=DATE:20160428
DTSTAMP:20260419T150655
CREATED:20160403T020034Z
LAST-MODIFIED:20160403T020115Z
UID:1439-1461715200-1461801599@sawsandslaws.org
SUMMARY:Gilpin Slash Site Opens for 2016 Season
DESCRIPTION:For more information: Gilpin Slash Site Opens
URL:https://sawsandslaws.org/event/gilpin-slash-site-opens/
END:VEVENT
BEGIN:VEVENT
DTSTART;TZID=UTC:20160416T080000
DTEND;TZID=UTC:20160416T120000
DTSTAMP:20260419T150655
CREATED:20160403T015605Z
LAST-MODIFIED:20160403T015800Z
UID:1437-1460793600-1460808000@sawsandslaws.org
SUMMARY:Chipping & Bucking - work on skills
DESCRIPTION:Join us to work on chipping and bucking skills! Instructors will be onsite. In the event of uncooperative weather\, we will move to Sunday\, April 17.
URL:https://sawsandslaws.org/event/chipping-bucking-work-on-skills/
LOCATION:Camp Granite Lake\, 11902 Camp Eden Road\, Golden\, CO\, 80403\, United States
ORGANIZER;CN="Cesar Gellido":MAILTO:cgellido@gmail.com
END:VEVENT
BEGIN:VEVENT
DTSTART;TZID=UTC:20160116T170000
DTEND;TZID=UTC:20160116T200000
DTSTAMP:20260419T150655
CREATED:20160105T044033Z
LAST-MODIFIED:20160105T050544Z
UID:1406-1452963600-1452974400@sawsandslaws.org
SUMMARY:Annual Volunteer Appreciation Dinner
DESCRIPTION:  \n\n\n\nSaws & Slaws Annual Volunteer Appreciation! \n  \nLive music\, delicious food\, learn more about Saws & Slaws and its volunteers. \n  \nJOIN US for Saws & Slaws Appreciation Dinner and Silent Auction: Saturday\, January 16. Silent Auction starts at 5. Dinner at 6.  Music performed by The Gael. See you at Camp Wondervu\, 11902 Camp Eden Road\, Golden (Coal Creek). \n  \nTax deductible donations of cash\, services or new items needed:  Contact Cindy (Cindy.L.Goodrich@gmail.com or 642-0255). Raising money for insurance\, the appreciation dinner\, and administrative expenses. Donations  received include: \n·         Stihl MS251 chainsaw (donated by Ace in Ned) \n·         Big D Dumpster \n·         CPA services \n·         art\, haircuts\, and other local wares \n  \nLet us know what you are interested in learning more about (or teaching) on our 4-question mountain living survey: https://www.surveymonkey.com/r/99X3ZJH \n \n\n\n\n 
URL:https://sawsandslaws.org/event/annual-volunteer-appreciation-dinner/
LOCATION:Camp Wondervu\, 11902 Camp Eden Road\, Golden
ORGANIZER;CN="Cindy Goodrich":MAILTO:Cindy.L.Goodrich@gmail.com
END:VEVENT
END:VCALENDAR